
BEGIN:VCALENDAR
VERSION:2.0
PRODID:-//EISA - ECPv6.15.20//NONSGML v1.0//EN
CALSCALE:GREGORIAN
METHOD:PUBLISH
X-WR-CALNAME:EISA
X-ORIGINAL-URL:https://eisa-net.org
X-WR-CALDESC:Events for EISA
REFRESH-INTERVAL;VALUE=DURATION:PT1H
X-Robots-Tag:noindex
X-PUBLISHED-TTL:PT1H
BEGIN:VTIMEZONE
TZID:Europe/Prague
BEGIN:DAYLIGHT
TZOFFSETFROM:+0100
TZOFFSETTO:+0200
TZNAME:CEST
DTSTART:20170326T010000
END:DAYLIGHT
BEGIN:STANDARD
TZOFFSETFROM:+0200
TZOFFSETTO:+0100
TZNAME:CET
DTSTART:20171029T010000
END:STANDARD
BEGIN:DAYLIGHT
TZOFFSETFROM:+0100
TZOFFSETTO:+0200
TZNAME:CEST
DTSTART:20180325T010000
END:DAYLIGHT
BEGIN:STANDARD
TZOFFSETFROM:+0200
TZOFFSETTO:+0100
TZNAME:CET
DTSTART:20181028T010000
END:STANDARD
BEGIN:DAYLIGHT
TZOFFSETFROM:+0100
TZOFFSETTO:+0200
TZNAME:CEST
DTSTART:20190331T010000
END:DAYLIGHT
BEGIN:STANDARD
TZOFFSETFROM:+0200
TZOFFSETTO:+0100
TZNAME:CET
DTSTART:20191027T010000
END:STANDARD
END:VTIMEZONE
BEGIN:VEVENT
DTSTART;VALUE=DATE:20180606
DTEND;VALUE=DATE:20180610
DTSTAMP:20260423T065926
CREATED:20250506T083808Z
LAST-MODIFIED:20250506T083808Z
UID:2496-1528243200-1528588799@eisa-net.org
SUMMARY:EWIS 2018
DESCRIPTION:5th EISA European Workshops in International Studies\, University of Groningen\, Netherlands\, 6-9 June 2018\nThe European Workshops in International Studies (EWIS)\, launched by the EISA in 2013\, have fast established themselves as a spirited place for the European IR community to engage in sustained\, in-depth discussion with a diverse range of peers from various institutions\, countries\, disciplines and career stages. EWIS has proven to be a popular and productive format\, perfect for preparing special issues\, edited volumes or exploring new ideas\, themes and directions in a vibrant and friendly atmosphere. \n			\n				PDF PROGRAMME
URL:https://eisa-net.org/event/ewis-2018/
LOCATION:Groningen\, Netherlands
CATEGORIES:EWIS
ORGANIZER;CN="EISA":MAILTO:info@eisa-net.org
END:VEVENT
END:VCALENDAR