
BEGIN:VCALENDAR
VERSION:2.0
PRODID:-//EISA - ECPv6.15.20//NONSGML v1.0//EN
CALSCALE:GREGORIAN
METHOD:PUBLISH
X-WR-CALNAME:EISA
X-ORIGINAL-URL:https://eisa-net.org
X-WR-CALDESC:Events for EISA
REFRESH-INTERVAL;VALUE=DURATION:PT1H
X-Robots-Tag:noindex
X-PUBLISHED-TTL:PT1H
BEGIN:VTIMEZONE
TZID:Europe/Prague
BEGIN:DAYLIGHT
TZOFFSETFROM:+0100
TZOFFSETTO:+0200
TZNAME:CEST
DTSTART:20180325T010000
END:DAYLIGHT
BEGIN:STANDARD
TZOFFSETFROM:+0200
TZOFFSETTO:+0100
TZNAME:CET
DTSTART:20181028T010000
END:STANDARD
BEGIN:DAYLIGHT
TZOFFSETFROM:+0100
TZOFFSETTO:+0200
TZNAME:CEST
DTSTART:20190331T010000
END:DAYLIGHT
BEGIN:STANDARD
TZOFFSETFROM:+0200
TZOFFSETTO:+0100
TZNAME:CET
DTSTART:20191027T010000
END:STANDARD
BEGIN:DAYLIGHT
TZOFFSETFROM:+0100
TZOFFSETTO:+0200
TZNAME:CEST
DTSTART:20200329T010000
END:DAYLIGHT
BEGIN:STANDARD
TZOFFSETFROM:+0200
TZOFFSETTO:+0100
TZNAME:CET
DTSTART:20201025T010000
END:STANDARD
END:VTIMEZONE
BEGIN:VEVENT
DTSTART;VALUE=DATE:20190626
DTEND;VALUE=DATE:20190630
DTSTAMP:20260422T133151
CREATED:20250506T082857Z
LAST-MODIFIED:20250506T082901Z
UID:2483-1561507200-1561852799@eisa-net.org
SUMMARY:EWIS 2019
DESCRIPTION:6th European Workshops in International Studies\,Krakow\, Jagiellonian University\, 26-29 June 2019\nThe event is organised in partnership with the Polish Association for International Studies and the City of Kraków. \nThe European Workshops in International Studies (EWIS)\, launched by EISA in 2013\, have fast established themselves as a vivacious place for the European IR community to engage in sustained\, in-depth discussion with a diverse range of peers from various institutions\, countries\, disciplines and career stages. EWIS has proven to be a popular and productive format\, perfect for preparing special issues\, edited volumes or exploring new ideas\, themes and directions in a vibrant and friendly atmosphere. \n			\n				PDF PROGRAMME
URL:https://eisa-net.org/event/ewis-2019/
LOCATION:Jagiellonian University\, Gołębia 24\, Kraków\, 31-007\, Poland
CATEGORIES:EWIS
ATTACH;FMTTYPE=image/png:https://eisa-net.org/wp-content/uploads/2025/05/EWIS_2019-e1561642624505.png
ORGANIZER;CN="EISA":MAILTO:info@eisa-net.org
END:VEVENT
END:VCALENDAR